BEGIN:VCALENDAR
VERSION:2.0
PRODID:-//Tukios.com/
BEGIN:VEVENT
UID:7e24dc65-323b-4e06-9287-869f11e44cbe@www.jkmfuneralhome.com
DTSTAMP:20260424T225300Z
DTSTART:20260427
SUMMARY:Burial
DESCRIPTION:
URL:https://www.jkmfuneralhome.com/obituaries/ilene-fischer
LOCATION:New Haven Cemetery Oxford Road  Harrison OH 45030
GEO:39.2900465;-84.7406327
END:VEVENT
END:VCALENDAR