BEGIN:VCALENDAR
VERSION:2.0
PRODID:-//Tukios.com/
BEGIN:VEVENT
UID:440bdb60-df35-4cb5-8373-4aa507c2708f@www.jkmfuneralhome.com
DTSTAMP:20260424T225711Z
DTSTART:20260427T160000Z
DTEND:20260427T170000Z
SUMMARY:Funeral Service
DESCRIPTION:
URL:https://www.jkmfuneralhome.com/obituaries/ilene-fischer
LOCATION: 215 E Broadway Street  Harrison OH 45030
GEO:39.2612754;-84.8174137
END:VEVENT
END:VCALENDAR