BEGIN:VCALENDAR
VERSION:2.0
PRODID:-//Tukios.com/
BEGIN:VEVENT
UID:50a0fc0e-5a33-49e6-b84b-8d82752faaf4@www.jkmfuneralhome.com
DTSTAMP:20260424T225614Z
DTSTART:20260427T150000Z
DTEND:20260427T160000Z
SUMMARY:Visitation
DESCRIPTION:
URL:https://www.jkmfuneralhome.com/obituaries/ilene-fischer
LOCATION: 215 E Broadway Street  Harrison OH 45030
GEO:39.2612754;-84.8174137
END:VEVENT
END:VCALENDAR